BEGIN:VCALENDAR
VERSION:2.0
PRODID:-//Claws Property People - ECPv6.6.1//NONSGML v1.0//EN
CALSCALE:GREGORIAN
METHOD:PUBLISH
X-ORIGINAL-URL:https://clawspropertypeople.co.uk
X-WR-CALDESC:Events for Claws Property People
REFRESH-INTERVAL;VALUE=DURATION:PT1H
X-Robots-Tag:noindex
X-PUBLISHED-TTL:PT1H
BEGIN:VTIMEZONE
TZID:UTC
BEGIN:STANDARD
TZOFFSETFROM:+0000
TZOFFSETTO:+0000
TZNAME:UTC
DTSTART:20240101T000000
END:STANDARD
END:VTIMEZONE
BEGIN:VEVENT
DTSTART;TZID=UTC:20240608T000000
DTEND;TZID=UTC:20240608T235959
DTSTAMP:20260423T143615
CREATED:20240519T155247Z
LAST-MODIFIED:20240519T155507Z
UID:71-1717804800-1717891199@clawspropertypeople.co.uk
SUMMARY:Mosfest
DESCRIPTION:
URL:https://clawspropertypeople.co.uk/event/mosfest/
LOCATION:Don Valley Bowl\, Sheffield\, United Kingdom
CATEGORIES:Sponsor
END:VEVENT
END:VCALENDAR